Workbook

Sheet spotkania
C1: TURNIEJ HOLENDERSKI - 15.06.25R.(ND)
C2: U9 - KATEGORIA
C6: Zestawienie spotkań
C7: 1 mecz | D7: A1 | E7: A2 | F7: A3 | G7: A4 | H7: A5 | I7: A6 | J7: A7 | K7: B1 | L7: B2 | M7: B3 | N7: B4 | O7: B5 | P7: B6 | Q7: B7
C8: =VLOOKUP(D7,tabela!A:B,2,0) -> AUGUSTYNIAK KUBA | D8: =VLOOKUP(K7,tabela!A:B,2,0) -> OZDEMIR MIRAN | E8: =IF($E$15="A",10,IF($E$15="B",0,5))+$C$15 -> 2 | F8: =IF($E$15="B",10,IF($E$15="a",0,5))+$D$15 -> 13 | I8: zawodnik 2 - BERGIER
C9: =VLOOKUP(E7,tabela!A:B,2,0) -> zawodnik 2 | D9: =VLOOKUP(L7,tabela!A:B,2,0) -> CIEPŁUCHA DAWID | E9: =IF($E$15="A",10,IF($E$15="B",0,5))+$C$15 -> 2 | F9: =IF($E$15="B",10,IF($E$15="a",0,5))+$D$15 -> 13 | I9: ZAWODNIK 13 - KAŹMIERCZAK | K9: linard
C10: =VLOOKUP(F7,tabela!A:B,2,0) -> BALWIERCZYK OLIWIER | D10: =VLOOKUP(M7,tabela!A:B,2,0) -> OLSZYŃSKI ADRIAN | E10: =IF($E$15="A",10,IF($E$15="B",0,5))+$C$15 -> 2 | F10: =IF($E$15="B",10,IF($E$15="a",0,5))+$D$15 -> 13 | K10: drozdz
C11: =VLOOKUP(G7,tabela!A:B,2,0) -> PIETRZAK KAMIL | D11: =VLOOKUP(N7,tabela!A:B,2,0) -> GLASNAPP NATAN | E11: =IF($E$15="A",10,IF($E$15="B",0,5))+$C$15 -> 2 | F11: =IF($E$15="B",10,IF($E$15="a",0,5))+$D$15 -> 13 | K11: indelak
C12: =VLOOKUP(H7,tabela!A:B,2,0) -> CHOROSZ JAN | D12: =VLOOKUP(O7,tabela!A:B,2,0) -> MOKROS MATEUSZ | E12: =IF($E$15="A",10,IF($E$15="B",0,5))+$C$15 -> 2 | F12: =IF($E$15="B",10,IF($E$15="a",0,5))+$D$15 -> 13
C13: =VLOOKUP(I7,tabela!A:B,2,0) -> PACHULSKI JULIUSZ | D13: =VLOOKUP(P7,tabela!A:B,2,0) -> zawodnik 13 | E13: =IF($E$15="A",10,IF($E$15="B",0,5))+$C$15 -> 2 | F13: =IF($E$15="B",10,IF($E$15="a",0,5))+$D$15 -> 13
C14: =VLOOKUP(J7,tabela!A:B,2,0) -> CICHOSZ RYSZARD | D14: =VLOOKUP(Q7,tabela!A:B,2,0) -> MATCZAK TOBIASZ | E14: =IF($E$15="A",10,IF($E$15="B",0,5))+$C$15 -> 2 | F14: =IF($E$15="B",10,IF($E$15="a",0,5))+$D$15 -> 13
B15: wynik | C15: 2 | D15: 3 | E15: =IF(C15>D15,"A",IF(C15=D15,"C","B")) -> B
C17: 2 mecz | D17: A1 | E17: A3 | F17: A5 | G17: A7 | H17: B2 | I17: B4 | J17: B6 | K17: C1 | L17: C2 | M17: C3 | N17: C4 | O17: C5 | P17: C6 | Q17: C7
C18: =VLOOKUP(D17,tabela!A:B,2,0) -> AUGUSTYNIAK KUBA | D18: =VLOOKUP(K17,tabela!A:B,2,0) -> KHOMENKO SVIATOSLAV | E18: =IF($E$25="A",10,IF($E$25="B",0,5))+$C$25 -> 0 | F18: =IF($E$25="B",10,IF($E$25="a",0,5))+$D$25 -> 18 | I18: zawodnik 13 - pietrzak | K18: pauza:
C19: =VLOOKUP(E17,tabela!A:B,2,0) -> BALWIERCZYK OLIWIER | D19: =VLOOKUP(L17,tabela!A:B,2,0) -> KAŹMIERCZAK JAN | E19: =IF($E$25="A",10,IF($E$25="B",0,5))+$C$25 -> 0 | F19: =IF($E$25="B",10,IF($E$25="a",0,5))+$D$25 -> 18 | I19: zawodnik 21 - olszyński | K19: zawodnik 2
C20: =VLOOKUP(F17,tabela!A:B,2,0) -> CHOROSZ JAN | D20: =VLOOKUP(M17,tabela!A:B,2,0) -> BERGIER BORYS | E20: =IF($E$25="A",10,IF($E$25="B",0,5))+$C$25 -> 0 | F20: =IF($E$25="B",10,IF($E$25="a",0,5))+$D$25 -> 18
C21: =VLOOKUP(G17,tabela!A:B,2,0) -> CICHOSZ RYSZARD | D21: =VLOOKUP(N17,tabela!A:B,2,0) -> DRÓŻDŹ NIKODEM | E21: =IF($E$25="A",10,IF($E$25="B",0,5))+$C$25 -> 0 | F21: =IF($E$25="B",10,IF($E$25="a",0,5))+$D$25 -> 18 | K21: pachulski
C22: =VLOOKUP(H17,tabela!A:B,2,0) -> CIEPŁUCHA DAWID | D22: =VLOOKUP(O17,tabela!A:B,2,0) -> INDELAK ADAM | E22: =IF($E$25="A",10,IF($E$25="B",0,5))+$C$25 -> 0 | F22: =IF($E$25="B",10,IF($E$25="a",0,5))+$D$25 -> 18 | K22: ozdemir
C23: =VLOOKUP(I17,tabela!A:B,2,0) -> GLASNAPP NATAN | D23: =VLOOKUP(P17,tabela!A:B,2,0) -> LINARD ANTONI | E23: =IF($E$25="A",10,IF($E$25="B",0,5))+$C$25 -> 0 | F23: =IF($E$25="B",10,IF($E$25="a",0,5))+$D$25 -> 18
C24: =VLOOKUP(J17,tabela!A:B,2,0) -> zawodnik 13 | D24: =VLOOKUP(Q17,tabela!A:B,2,0) -> zawodnik 21 | E24: =IF($E$25="A",10,IF($E$25="B",0,5))+$C$25 -> 0 | F24: =IF($E$25="B",10,IF($E$25="a",0,5))+$D$25 -> 18 | K24: mokros
B25: wynik | C25: 0 | D25: 8 | E25: =IF(C25>D25,"A",IF(C25=D25,"C","B")) -> B | K25: matczak
C27: 3 mecz | D27: A2 | E27: A6 | F27: B1 | G27: B3 | H27: C1 | I27: C4 | J27: C7 | K27: A4 | L27: B5 | M27: B7 | N27: C2 | O27: C3 | P27: C5 | Q27: C6
C28: =VLOOKUP(D27,tabela!A:B,2,0) -> zawodnik 2 | D28: =VLOOKUP(K27,tabela!A:B,2,0) -> PIETRZAK KAMIL | E28: =IF($E$35="A",10,IF($E$35="B",0,5))+$C$35 -> 1 | F28: =IF($E$35="B",10,IF($E$35="a",0,5))+$D$35 -> 18 | I28: zawodnik 2 - balwierczyk
C29: =VLOOKUP(E27,tabela!A:B,2,0) -> PACHULSKI JULIUSZ | D29: =VLOOKUP(L27,tabela!A:B,2,0) -> MOKROS MATEUSZ | E29: =IF($E$35="A",10,IF($E$35="B",0,5))+$C$35 -> 1 | F29: =IF($E$35="B",10,IF($E$35="a",0,5))+$D$35 -> 18 | I29: zawodnik 21 - augustyniak
C30: =VLOOKUP(F27,tabela!A:B,2,0) -> OZDEMIR MIRAN | D30: =VLOOKUP(M27,tabela!A:B,2,0) -> MATCZAK TOBIASZ | E30: =IF($E$35="A",10,IF($E$35="B",0,5))+$C$35 -> 1 | F30: =IF($E$35="B",10,IF($E$35="a",0,5))+$D$35 -> 18 | K30: CHOROSZ JAN
C31: =VLOOKUP(G27,tabela!A:B,2,0) -> OLSZYŃSKI ADRIAN | D31: =VLOOKUP(N27,tabela!A:B,2,0) -> KAŹMIERCZAK JAN | E31: =IF($E$35="A",10,IF($E$35="B",0,5))+$C$35 -> 1 | F31: =IF($E$35="B",10,IF($E$35="a",0,5))+$D$35 -> 18 | K31: CICHOSZ RYSZARD
C32: =VLOOKUP(H27,tabela!A:B,2,0) -> KHOMENKO SVIATOSLAV | D32: =VLOOKUP(O27,tabela!A:B,2,0) -> BERGIER BORYS | E32: =IF($E$35="A",10,IF($E$35="B",0,5))+$C$35 -> 1 | F32: =IF($E$35="B",10,IF($E$35="a",0,5))+$D$35 -> 18 | K32: CIEPŁUCHA DAWID
C33: =VLOOKUP(I27,tabela!A:B,2,0) -> DRÓŻDŹ NIKODEM | D33: =VLOOKUP(P27,tabela!A:B,2,0) -> INDELAK ADAM | E33: =IF($E$35="A",10,IF($E$35="B",0,5))+$C$35 -> 1 | F33: =IF($E$35="B",10,IF($E$35="a",0,5))+$D$35 -> 18 | K33: GLASNAPP NATAN
C34: =VLOOKUP(J27,tabela!A:B,2,0) -> zawodnik 21 | D34: =VLOOKUP(Q27,tabela!A:B,2,0) -> LINARD ANTONI | E34: =IF($E$35="A",10,IF($E$35="B",0,5))+$C$35 -> 1 | F34: =IF($E$35="B",10,IF($E$35="a",0,5))+$D$35 -> 18 | K34: zawodnik 13
B35: wynik | C35: 1 | D35: 8 | E35: =IF(C35>D35,"A",IF(C35=D35,"C","B")) -> B
C37: 4 mecz | D37: A1 | E37: A5 | F37: A7 | G37: B2 | H37: B6 | I37: C6 | J37: C7 | K37: A2 | L37: A3 | M37: A6 | N37: B3 | O37: B4 | P37: C1 | Q37: C4
C38: =VLOOKUP(D37,tabela!A:B,2,0) -> AUGUSTYNIAK KUBA | D38: =VLOOKUP(K37,tabela!A:B,2,0) -> zawodnik 2 | E38: =IF($E$45="A",10,IF($E$45="B",0,5))+$C$45 -> 18 | F38: =IF($E$45="B",10,IF($E$45="a",0,5))+$D$45 -> 0 | I38: zawodnik 13 - INDELAK | K38: PIETRZAK KAMIL
C39: =VLOOKUP(E37,tabela!A:B,2,0) -> CHOROSZ JAN | D39: =VLOOKUP(L37,tabela!A:B,2,0) -> BALWIERCZYK OLIWIER | E39: =IF($E$45="A",10,IF($E$45="B",0,5))+$C$45 -> 18 | F39: =IF($E$45="B",10,IF($E$45="a",0,5))+$D$45 -> 0 | I39: zawodnik 21 - OZDEMIR
C40: =VLOOKUP(F37,tabela!A:B,2,0) -> CICHOSZ RYSZARD | D40: =VLOOKUP(M37,tabela!A:B,2,0) -> PACHULSKI JULIUSZ | E40: =IF($E$45="A",10,IF($E$45="B",0,5))+$C$45 -> 18 | F40: =IF($E$45="B",10,IF($E$45="a",0,5))+$D$45 -> 0 | I40: zawodnik 2 - MOKROS
C41: =VLOOKUP(G37,tabela!A:B,2,0) -> CIEPŁUCHA DAWID | D41: =VLOOKUP(N37,tabela!A:B,2,0) -> OLSZYŃSKI ADRIAN | E41: =IF($E$45="A",10,IF($E$45="B",0,5))+$C$45 -> 18 | F41: =IF($E$45="B",10,IF($E$45="a",0,5))+$D$45 -> 0 | K41: MATCZAK TOBIASZ | L41: 2X
C42: =VLOOKUP(H37,tabela!A:B,2,0) -> zawodnik 13 | D42: =VLOOKUP(O37,tabela!A:B,2,0) -> GLASNAPP NATAN | E42: =IF($E$45="A",10,IF($E$45="B",0,5))+$C$45 -> 18 | F42: =IF($E$45="B",10,IF($E$45="a",0,5))+$D$45 -> 0 | K42: KAŹMIERCZAK JAN
C43: =VLOOKUP(I37,tabela!A:B,2,0) -> LINARD ANTONI | D43: =VLOOKUP(P37,tabela!A:B,2,0) -> KHOMENKO SVIATOSLAV | E43: =IF($E$45="A",10,IF($E$45="B",0,5))+$C$45 -> 18 | F43: =IF($E$45="B",10,IF($E$45="a",0,5))+$D$45 -> 0 | K43: BERGIER BORYS
C44: =VLOOKUP(J37,tabela!A:B,2,0) -> zawodnik 21 | D44: =VLOOKUP(Q37,tabela!A:B,2,0) -> DRÓŻDŹ NIKODEM | E44: =IF($E$45="A",10,IF($E$45="B",0,5))+$C$45 -> 18 | F44: =IF($E$45="B",10,IF($E$45="a",0,5))+$D$45 -> 0
B45: wynik | C45: 8 | D45: 0 | E45: =IF(C45>D45,"A",IF(C45=D45,"C","B")) -> A
C47: 5 mecz | D47: A2 | E47: A4 | F47: A5 | G47: B2 | H47: B7 | I47: C3 | J47: C5 | K47: A3 | L47: A7 | M47: B1 | N47: B5 | O47: B6 | P47: C1 | Q47: C2
...

Sheet tabela
B1: ZAWODNIK | C1: PUNKTY | D1: 1 | E1: 2 | F1: 3 | G1: 4 | H1: 5 | I1: 6 | J1: 7 | K1: 8 | L1: 9 | M1: 10 | N1: 11 | O1: 12 | P1: 13 | Q1: 14 | R1: 15
A2: C3 | B2: BERGIER BORYS | C2: =SUM(D2:R2) -> 124 | D2: P | E2: =VLOOKUP(B2,spotkania!$D$18:$F$24,3,0) -> 18 | F2: =VLOOKUP(B2,spotkania!$D$28:$F$34,3,0) -> 18 | G2: P | H2: =VLOOKUP(B2,spotkania!$C$48:$E$54,3,0) -> 14 | I2: =VLOOKUP(B2,spotkania!$D$58:$F$64,3,0) -> 18 | J2: =VLOOKUP(B2,spotkania!$C$68:$E$74,3,0) -> 16 | K2: =VLOOKUP(B2,spotkania!$D$78:$F$84,3,0) -> 4 | L2: P | M2: =VLOOKUP(B2,spotkania!$D$98:$F$104,3,0) -> 21 | N2: =VLOOKUP(B2,spotkania!$C$108:$E$114,3,0) -> 5 | O2: P | P2: =VLOOKUP(B2,spotkania!$D$128:$F$134,3,0) -> 5 | Q2: P | R2: =VLOOKUP(B2,spotkania!$D$148:$F$154,3,0) -> 5
A3: C6 | B3: LINARD ANTONI | C3: =SUM(D3:R3) -> 111 | D3: P | E3: =VLOOKUP(B3,spotkania!$D$18:$F$24,3,0) -> 18 | F3: =VLOOKUP(B3,spotkania!$D$28:$F$34,3,0) -> 18 | G3: =VLOOKUP(B3,spotkania!$C$38:$E$44,3,0) -> 18 | H3: P | I3: =VLOOKUP(B3,spotkania!$D$58:$F$64,3,0) -> 18 | J3: =VLOOKUP(B3,spotkania!$C$68:$E$74,3,0) -> 16 | K3: P | L3: =VLOOKUP(B3,spotkania!$C$88:$E$94,3,0) -> 3 | M3: P | N3: =VLOOKUP(B3,spotkania!$D$108:$F$114,3,0) -> 5 | O3: =VLOOKUP(B3,spotkania!$C$118:$E$124,3,0) -> 5 | P3: P | Q3: =VLOOKUP(B3,spotkania!$D$138:$F$144,3,0) -> 5 | R3: =VLOOKUP(B3,spotkania!$C$148:$E$154,3,0) -> 5
A4: C5 | B4: INDELAK ADAM | C4: =SUM(D4:R4) -> 110 | D4: P | E4: =VLOOKUP(B4,spotkania!$D$18:$F$24,3,0) -> 18 | F4: =VLOOKUP(B4,spotkania!$D$28:$F$34,3,0) -> 18 | G4: P | H4: =VLOOKUP(B4,spotkania!$C$48:$E$54,3,0) -> 14 | I4: =VLOOKUP(B4,spotkania!$C$58:$E$64,3,0) -> 2 | J4: P | K4: =VLOOKUP(B4,spotkania!$C$78:$E$84,3,0) -> 23 | L4: =VLOOKUP(B4,spotkania!$D$88:$F$94,3,0) -> 15 | M4: P | N4: =VLOOKUP(B4,spotkania!$C$108:$E$114,3,0) -> 5 | O4: =VLOOKUP(B4,spotkania!$D$118:$F$124,3,0) -> 5 | P4: P | Q4: =VLOOKUP(B4,spotkania!$C$138:$E$144,3,0) -> 5 | R4: =VLOOKUP(B4,spotkania!$D$148:$F$154,3,0) -> 5
A5: C2 | B5: KAŹMIERCZAK JAN | C5: =SUM(D5:R5) -> 110 | D5: P | E5: =VLOOKUP(B5,spotkania!$D$18:$F$24,3,0) -> 18 | F5: =VLOOKUP(B5,spotkania!$D$28:$F$34,3,0) -> 18 | G5: P | H5: =VLOOKUP(B5,spotkania!$D$48:$F$54,3,0) -> 1 | I5: =VLOOKUP(B5,spotkania!$D$58:$F$64,3,0) -> 18 | J5: P | K5: =VLOOKUP(B5,spotkania!$D$78:$F$84,3,0) -> 4 | L5: =VLOOKUP(B5,spotkania!$D$88:$F$94,3,0) -> 15 | M5: =VLOOKUP(B5,spotkania!$D$98:$F$104,3,0) -> 21 | N5: P | O5: =VLOOKUP(B5,spotkania!$C$118:$E$124,3,0) -> 5 | P5: =VLOOKUP(B5,spotkania!$D$128:$F$134,3,0) -> 5 | Q5: =VLOOKUP(B5,spotkania!$C$138:$E$144,3,0) -> 5 | R5: P
A6: B7 | B6: MATCZAK TOBIASZ | C6: =SUM(D6:R6) -> 103 | D6: =VLOOKUP(B6,spotkania!$D$8:$F$14,3,0) -> 13 | E6: P | F6: =VLOOKUP(B6,spotkania!$D$28:$F$34,3,0) -> 18 | G6: P | H6: =VLOOKUP(B6,spotkania!$C$48:$E$54,3,0) -> 14 | I6: =VLOOKUP(B6,spotkania!$D$58:$F$64,3,0) -> 18 | J6: =VLOOKUP(B6,spotkania!$D$68:$F$74,3,0) -> 2 | K6: =VLOOKUP(B6,spotkania!$C$78:$E$84,3,0) -> 23 | L6: P | M6: =VLOOKUP(B6,spotkania!$C$98:$E$104,3,0) -> 0 | N6: =VLOOKUP(B6,spotkania!$D$108:$F$114,3,0) -> 5 | O6: P | P6: =VLOOKUP(B6,spotkania!$C$128:$E$134,3,0) -> 5 | Q6: =VLOOKUP(B6,spotkania!$C$138:$E$144,3,0) -> 5 | R6: P
A7: A7 | B7: CICHOSZ RYSZARD | C7: =SUM(D7:R7) -> 96 | D7: =VLOOKUP(B7,spotkania!$C$8:$E$14,3,0) -> 2 | E7: =VLOOKUP(B7,spotkania!$C$18:$E$24,3,0) -> 0 | F7: P | G7: =VLOOKUP(B7,spotkania!$C$38:$E$44,3,0) -> 18 | H7: =VLOOKUP(B7,spotkania!$D$48:$F$54,3,0) -> 1 | I7: P | J7: =VLOOKUP(B7,spotkania!$C$68:$E$74,3,0) -> 16 | K7: =VLOOKUP(B7,spotkania!$C$78:$E$84,3,0) -> 23 | L7: P | M7: =VLOOKUP(B7,spotkania!$D$98:$F$104,3,0) -> 21 | N7: =VLOOKUP(B7,spotkania!$C$108:$E$114,3,0) -> 5 | O7: P | P7: =VLOOKUP(B7,spotkania!$C$128:$E$134,3,0) -> 5 | Q7: P | R7: =VLOOKUP(B7,spotkania!$D$148:$F$154,3,0) -> 5
A8: A2 | B8: zawodnik 2 | C8: =SUM(D8:R8) -> 92 | D8: =VLOOKUP(B8,spotkania!$C$8:$E$14,3,0) -> 2 | E8: P | F8: =VLOOKUP(B8,spotkania!$C$28:$E$34,3,0) -> 1 | G8: =VLOOKUP(B8,spotkania!$D$38:$F$44,3,0) -> 0 | H8: =VLOOKUP(B8,spotkania!$C$48:$E$54,3,0) -> 14 | I8: P | J8: =VLOOKUP(B8,spotkania!$C$68:$E$74,3,0) -> 16 | K8: =VLOOKUP(B8,spotkania!$C$78:$E$84,3,0) -> 23 | L8: P | M8: =VLOOKUP(B8,spotkania!$D$98:$F$104,3,0) -> 21 | N8: =VLOOKUP(B8,spotkania!$D$108:$F$114,3,0) -> 5 | O8: P | P8: =VLOOKUP(B8,spotkania!$C$128:$E$134,3,0) -> 5 | Q8: P | R8: =VLOOKUP(B8,spotkania!$D$148:$F$154,3,0) -> 5
A9: A4 | B9: PIETRZAK KAMIL | C9: =SUM(D9:R9) -> 91 | D9: =VLOOKUP(B9,spotkania!$C$8:$E$14,3,0) -> 2 | E9: P | F9: =VLOOKUP(B9,spotkania!$D$28:$F$34,3,0) -> 18 | G9: P | H9: =VLOOKUP(B9,spotkania!$C$48:$E$54,3,0) -> 14 | I9: =VLOOKUP(B9,spotkania!$D$58:$F$64,3,0) -> 18 | J9: P | K9: =VLOOKUP(B9,spotkania!$D$78:$F$84,3,0) -> 4 | L9: =VLOOKUP(B9,spotkania!$D$88:$F$94,3,0) -> 15 | M9: P | N9: =VLOOKUP(B9,spotkania!$D$108:$F$114,3,0) -> 5 | O9: =VLOOKUP(B9,spotkania!$C$118:$E$124,3,0) -> 5 | P9: =VLOOKUP(B9,spotkania!$D$128:$F$134,3,0) -> 5 | Q9: P | R9: =VLOOKUP(B9,spotkania!$D$148:$F$154,3,0) -> 5
A10: B5 | B10: MOKROS MATEUSZ | C10: =SUM(D10:R10) -> 91 | D10: =VLOOKUP(B10,spotkania!$D$8:$F$14,3,0) -> 13 | E10: P | F10: =VLOOKUP(B10,spotkania!$D$28:$F$34,3,0) -> 18 | G10: P | H10: =VLOOKUP(B10,spotkania!$D$48:$F$54,3,0) -> 1 | I10: =VLOOKUP(B10,spotkania!$D$58:$F$64,3,0) -> 18 | J10: =VLOOKUP(B10,spotkania!$D$68:$F$74,3,0) -> 2 | K10: P | L10: =VLOOKUP(B10,spotkania!$C$88:$E$94,3,0) -> 3 | M10: =VLOOKUP(B10,spotkania!$D$98:$F$104,3,0) -> 21 | N10: =VLOOKUP(B10,spotkania!$C$108:$E$114,3,0) -> 5 | O10: P | P10: =VLOOKUP(B10,spotkania!$D$128:$F$134,3,0) -> 5 | Q10: =VLOOKUP(B10,spotkania!$D$138:$F$144,3,0) -> 5 | R10: P
A11: B2 | B11: CIEPŁUCHA DAWID | C11: =SUM(D11:R11) -> 87 | D11: =VLOOKUP(B11,spotkania!$D$8:$F$14,3,0) -> 13 | E11: =VLOOKUP(B11,spotkania!$C$18:$E$24,3,0) -> 0 | F11: P | G11: =VLOOKUP(B11,spotkania!$C$38:$E$44,3,0) -> 18 | H11: =VLOOKUP(B11,spotkania!$C$48:$E$54,3,0) -> 14 | I11: P | J11: =VLOOKUP(B11,spotkania!$D$68:$F$74,3,0) -> 2 | K11: =VLOOKUP(B11,spotkania!$D$78:$F$84,3,0) -> 4 | L11: P | M11: =VLOOKUP(B11,spotkania!$D$98:$F$104,3,0) -> 21 | N11: P | O11: =VLOOKUP(B11,spotkania!$D$118:$F$124,3,0) -> 5 | P11: =VLOOKUP(B11,spotkania!$D$128:$F$134,3,0) -> 5 | Q11: =VLOOKUP(B11,spotkania!$D$138:$F$144,3,0) -> 5 | R11: P
A12: B6 | B12: zawodnik 13 | C12: =SUM(D12:R12) -> 86 | D12: =VLOOKUP(B12,spotkania!$D$8:$F$14,3,0) -> 13 | E12: =VLOOKUP(B12,spotkania!$C$18:$E$24,3,0) -> 0 | F12: P | G12: =VLOOKUP(B12,spotkania!$C$38:$E$44,3,0) -> 18 | H12: =VLOOKUP(B12,spotkania!$D$48:$F$54,3,0) -> 1 | I12: P | J12: =VLOOKUP(B12,spotkania!$C$68:$E$74,3,0) -> 16 | K12: =VLOOKUP(B12,spotkania!$C$78:$E$84,3,0) -> 23 | L12: P | M12: =VLOOKUP(B12,spotkania!$C$98:$E$104,3,0) -> 0 | N12: P | O12: =VLOOKUP(B12,spotkania!$C$118:$E$124,3,0) -> 5 | P12: =VLOOKUP(B12,spotkania!$C$128:$E$134,3,0) -> 5 | Q12: =VLOOKUP(B12,spotkania!$D$138:$F$144,3,0) -> 5 | R12: P
A13: B1 | B13: OZDEMIR MIRAN | C13: =SUM(D13:R13) -> 75 | D13: =VLOOKUP(B13,spotkania!$D$8:$F$14,3,0) -> 13 | E13: P | F13: =VLOOKUP(B13,spotkania!$C$28:$E$34,3,0) -> 1 | G13: P | H13: =VLOOKUP(B13,spotkania!$D$48:$F$54,3,0) -> 1 | I13: =VLOOKUP(B13,spotkania!$C$58:$E$64,3,0) -> 2 | J13: P | K13: =VLOOKUP(B13,spotkania!$C$78:$E$84,3,0) -> 23 | L13: =VLOOKUP(B13,spotkania!$D$88:$F$94,3,0) -> 15 | M13: P | N13: =VLOOKUP(B13,spotkania!$C$108:$E$114,3,0) -> 5 | O13: =VLOOKUP(B13,spotkania!$D$118:$F$124,3,0) -> 5 | P13: P | Q13: =VLOOKUP(B13,spotkania!$C$138:$E$144,3,0) -> 5 | R13: =VLOOKUP(B13,spotkania!$C$148:$E$154,3,0) -> 5
A14: A1 | B14: AUGUSTYNIAK KUBA | C14: =SUM(D14:R14) -> 63 | D14: =VLOOKUP(B14,spotkania!$C$8:$E$14,3,0) -> 2 | E14: =VLOOKUP(B14,spotkania!C18:E24,3,0) -> 0 | F14: P | G14: =VLOOKUP(B14,spotkania!$C$38:$E$44,3,0) -> 18 | H14: P | I14: =VLOOKUP(B14,spotkania!$C$58:$E$64,3,0) -> 2 | J14: P | K14: =VLOOKUP(B14,spotkania!$C$78:$E$84,3,0) -> 23 | L14: =VLOOKUP(B14,spotkania!$C$88:$E$94,3,0) -> 3 | M14: =VLOOKUP(B14,spotkania!$C$98:$E$104,3,0) -> 0 | N14: P | O14: =VLOOKUP(B14,spotkania!$C$118:$E$124,3,0) -> 5 | P14: P | Q14: =VLOOKUP(B14,spotkania!$C$138:$E$144,3,0) -> 5 | R14: =VLOOKUP(B14,spotkania!$C$148:$E$154,3,0) -> 5
A15: A6 | B15: PACHULSKI JULIUSZ | C15: =SUM(D15:R15) -> 60 | D15: =VLOOKUP(B15,spotkania!$C$8:$E$14,3,0) -> 2 | E15: P | F15: =VLOOKUP(B15,spotkania!$C$28:$E$34,3,0) -> 1 | G15: =VLOOKUP(B15,spotkania!$D$38:$F$44,3,0) -> 0 | H15: P | I15: =VLOOKUP(B15,spotkania!$C$58:$E$64,3,0) -> 2 | J15: =VLOOKUP(B15,spotkania!$C$68:$E$74,3,0) -> 16 | K15: P | L15: =VLOOKUP(B15,spotkania!$C$88:$E$94,3,0) -> 3 | M15: =VLOOKUP(B15,spotkania!$D$98:$F$104,3,0) -> 21 | N15: P | O15: =VLOOKUP(B15,spotkania!$C$118:$E$124,3,0) -> 5 | P15: P | Q15: =VLOOKUP(B15,spotkania!$D$138:$F$144,3,0) -> 5 | R15: =VLOOKUP(B15,spotkania!$C$148:$E$154,3,0) -> 5
A16: C7 | B16: zawodnik 21 | C16: =SUM(D16:R16) -> 59 | D16: P | E16: =VLOOKUP(B16,spotkania!$D$18:$F$24,3,0) -> 18 | F16: =VLOOKUP(B16,spotkania!$C$28:$E$34,3,0) -> 1 | G16: =VLOOKUP(B16,spotkania!$C$38:$E$44,3,0) -> 18 | H16: P | I16: =VLOOKUP(B16,spotkania!$C$58:$E$64,3,0) -> 2 | J16: =VLOOKUP(B16,spotkania!$D$68:$F$74,3,0) -> 2 | K16: P | L16: =VLOOKUP(B16,spotkania!$C$88:$E$94,3,0) -> 3 | M16: =VLOOKUP(B16,spotkania!$C$98:$E$104,3,0) -> 0 | N16: P | O16: =VLOOKUP(B16,spotkania!$C$118:$E$124,3,0) -> 5 | P16: =VLOOKUP(B16,spotkania!$C$128:$E$134,3,0) -> 5 | Q16: P | R16: =VLOOKUP(B16,spotkania!$C$148:$E$154,3,0) -> 5
A17: C1 | B17: KHOMENKO SVIATOSLAV | C17: =SUM(D17:R17) -> 59 | D17: P | E17: =VLOOKUP(B17,spotkania!$D$18:$F$24,3,0) -> 18 | F17: =VLOOKUP(B17,spotkania!$C$28:$E$34,3,0) -> 1 | G17: =VLOOKUP(B17,spotkania!$D$38:$F$44,3,0) -> 0 | H17: =VLOOKUP(B17,spotkania!$D$48:$F$54,3,0) -> 1 | I17: P | J17: =VLOOKUP(B17,spotkania!$C$68:$E$74,3,0) -> 16 | K17: P | L17: =VLOOKUP(B17,spotkania!$C$88:$E$94,3,0) -> 3 | M17: P | N17: =VLOOKUP(B17,spotkania!$C$108:$E$114,3,0) -> 5 | O17: =VLOOKUP(B17,spotkania!$D$118:$F$124,3,0) -> 5 | P17: P | Q17: =VLOOKUP(B17,spotkania!$D$138:$F$144,3,0) -> 5 | R17: =VLOOKUP(B17,spotkania!$C$148:$E$154,3,0) -> 5
A18: C4 | B18: DRÓŻDŹ NIKODEM | C18: =SUM(D18:R18) -> 57 | D18: P | E18: =VLOOKUP(B18,spotkania!$D$18:$F$24,3,0) -> 18 | F18: =VLOOKUP(B18,spotkania!$C$28:$E$34,3,0) -> 1 | G18: =VLOOKUP(B18,spotkania!$D$38:$F$44,3,0) -> 0 | H18: P | I18: =VLOOKUP(B18,spotkania!$D$58:$F$64,3,0) -> 18 | J18: =VLOOKUP(B18,spotkania!$D$68:$F$74,3,0) -> 2 | K18: P | L18: =VLOOKUP(B18,spotkania!$C$88:$E$94,3,0) -> 3 | M18: =VLOOKUP(B18,spotkania!$C$98:$E$104,3,0) -> 0 | N18: P | O18: =VLOOKUP(B18,spotkania!$D$118:$F$124,3,0) -> 5 | P18: =VLOOKUP(B18,spotkania!$D$128:$F$134,3,0) -> 5 | Q18: P | R18: =VLOOKUP(B18,spotkania!$D$148:$F$154,3,0) -> 5
A19: A5 | B19: CHOROSZ JAN | C19: =SUM(D19:R19) -> 55 | D19: =VLOOKUP(B19,spotkania!$C$8:$E$14,3,0) -> 2 | E19: =VLOOKUP(B19,spotkania!$C$18:$E$24,3,0) -> 0 | F19: P | G19: =VLOOKUP(B19,spotkania!$C$38:$E$44,3,0) -> 18 | H19: =VLOOKUP(B19,spotkania!$C$48:$E$54,3,0) -> 14 | I19: P | J19: =VLOOKUP(B19,spotkania!$D$68:$F$74,3,0) -> 2 | K19: =VLOOKUP(B19,spotkania!$D$78:$F$84,3,0) -> 4 | L19: P | M19: =VLOOKUP(B19,spotkania!$C$98:$E$104,3,0) -> 0 | N19: =VLOOKUP(B19,spotkania!$D$108:$F$114,3,0) -> 5 | O19: P | P19: =VLOOKUP(B19,spotkania!$C$128:$E$134,3,0) -> 5 | Q19: =VLOOKUP(B19,spotkania!$C$138:$E$144,3,0) -> 5 | R19: P
A20: B3 | B20: OLSZYŃSKI ADRIAN | C20: =SUM(D20:R20) -> 55 | D20: =VLOOKUP(B20,spotkania!$D$8:$F$14,3,0) -> 13 | E20: P | F20: =VLOOKUP(B20,spotkania!$C$28:$E$34,3,0) -> 1 | G20: =VLOOKUP(B20,spotkania!$D$38:$F$44,3,0) -> 0 | H20: P | I20: =VLOOKUP(B20,spotkania!$C$58:$E$64,3,0) -> 2 | J20: P | K20: =VLOOKUP(B20,spotkania!$D$78:$F$84,3,0) -> 4 | L20: =VLOOKUP(B20,spotkania!$D$88:$F$94,3,0) -> 15 | M20: P | N20: =VLOOKUP(B20,spotkania!$D$108:$F$114,3,0) -> 5 | O20: =VLOOKUP(B20,spotkania!$D$118:$F$124,3,0) -> 5 | P20: P | Q20: =VLOOKUP(B20,spotkania!$C$138:$E$144,3,0) -> 5 | R20: =VLOOKUP(B20,spotkania!$D$148:$F$154,3,0) -> 5
A21: B4 | B21: GLASNAPP NATAN | C21: =SUM(D21:R21) -> 54 | D21: =VLOOKUP(B21,spotkania!$D$8:$F$14,3,0) -> 13 | E21: =VLOOKUP(B21,spotkania!$C$18:$E$24,3,0) -> 0 | F21: P | G21: =VLOOKUP(B21,spotkania!$D$38:$F$44,3,0) -> 0 | H21: P | I21: =VLOOKUP(B21,spotkania!$C$58:$E$64,3,0) -> 2 | J21: P | K21: =VLOOKUP(B21,spotkania!$D$78:$F$84,3,0) -> 4 | L21: =VLOOKUP(B21,spotkania!$D$88:$F$94,3,0) -> 15 | M21: P | N21: =VLOOKUP(B21,spotkania!$D$108:$F$114,3,0) -> 5 | O21: =VLOOKUP(B21,spotkania!$D$118:$F$124,3,0) -> 5 | P21: =VLOOKUP(B21,spotkania!$C$128:$E$134,3,0) -> 5 | Q21: P | R21: =VLOOKUP(B21,spotkania!$C$148:$E$154,3,0) -> 5
A22: A3 | B22: BALWIERCZYK OLIWIER | C22: =SUM(D22:R22) -> 35 | D22: =VLOOKUP(B22,spotkania!$C$8:$E$14,3,0) -> 2 | E22: =VLOOKUP(B22,spotkania!$C$18:$E$24,3,0) -> 0 | F22: P | G22: =VLOOKUP(B22,spotkania!$D$38:$F$44,3,0) -> 0 | H22: =VLOOKUP(B22,spotkania!$D$48:$F$54,3,0) -> 1 | I22: P | J22: =VLOOKUP(B22,spotkania!$D$68:$F$74,3,0) -> 2 | K22: P | L22: =VLOOKUP(B22,spotkania!$D$88:$F$94,3,0) -> 15 | M22: =VLOOKUP(B22,spotkania!$C$98:$E$104,3,0) -> 0 | N22: =VLOOKUP(B22,spotkania!$C$108:$E$114,3,0) -> 5 | O22: P | P22: =VLOOKUP(B22,spotkania!$D$128:$F$134,3,0) -> 5 | Q22: =VLOOKUP(B22,spotkania!$D$138:$F$144,3,0) -> 5 | R22: P
