Workbook

Sheet spotkania
C1: TURNIEJ HOLENDERSKI - 15.06.25R.(ND)
C2: U9 - KATEGORIA
C6: Zestawienie spotkań
C7: 1 mecz | D7: A1 | E7: A2 | F7: A3 | G7: A4 | H7: A5 | I7: A6 | J7: A7 | K7: B1 | L7: B2 | M7: B3 | N7: B4 | O7: B5 | P7: B6 | Q7: B7
C8: =VLOOKUP(D7,tabela!A:B,2,0) -> AUGUSTYNIAK KUBA | D8: =VLOOKUP(K7,tabela!A:B,2,0) -> OZDEMIR MIRAN | E8: =IF($E$15="A",10,IF($E$15="B",0,5))+$C$15 -> 2 | F8: =IF($E$15="B",10,IF($E$15="a",0,5))+$D$15 -> 13 | I8: zawodnik 2 - BERGIER
C9: =VLOOKUP(E7,tabela!A:B,2,0) -> zawodnik 2 | D9: =VLOOKUP(L7,tabela!A:B,2,0) -> CIEPŁUCHA DAWID | E9: =IF($E$15="A",10,IF($E$15="B",0,5))+$C$15 -> 2 | F9: =IF($E$15="B",10,IF($E$15="a",0,5))+$D$15 -> 13 | I9: ZAWODNIK 13 - KAŹMIERCZAK | K9: linard
C10: =VLOOKUP(F7,tabela!A:B,2,0) -> BALWIERCZYK OLIWIER | D10: =VLOOKUP(M7,tabela!A:B,2,0) -> OLSZYŃSKI ADRIAN | E10: =IF($E$15="A",10,IF($E$15="B",0,5))+$C$15 -> 2 | F10: =IF($E$15="B",10,IF($E$15="a",0,5))+$D$15 -> 13 | K10: drozdz
C11: =VLOOKUP(G7,tabela!A:B,2,0) -> PIETRZAK KAMIL | D11: =VLOOKUP(N7,tabela!A:B,2,0) -> GLASNAPP NATAN | E11: =IF($E$15="A",10,IF($E$15="B",0,5))+$C$15 -> 2 | F11: =IF($E$15="B",10,IF($E$15="a",0,5))+$D$15 -> 13 | K11: indelak
C12: =VLOOKUP(H7,tabela!A:B,2,0) -> CHOROSZ JAN | D12: =VLOOKUP(O7,tabela!A:B,2,0) -> MOKROS MATEUSZ | E12: =IF($E$15="A",10,IF($E$15="B",0,5))+$C$15 -> 2 | F12: =IF($E$15="B",10,IF($E$15="a",0,5))+$D$15 -> 13
C13: =VLOOKUP(I7,tabela!A:B,2,0) -> PACHULSKI JULIUSZ | D13: =VLOOKUP(P7,tabela!A:B,2,0) -> zawodnik 13 | E13: =IF($E$15="A",10,IF($E$15="B",0,5))+$C$15 -> 2 | F13: =IF($E$15="B",10,IF($E$15="a",0,5))+$D$15 -> 13
C14: =VLOOKUP(J7,tabela!A:B,2,0) -> CICHOSZ RYSZARD | D14: =VLOOKUP(Q7,tabela!A:B,2,0) -> MATCZAK TOBIASZ | E14: =IF($E$15="A",10,IF($E$15="B",0,5))+$C$15 -> 2 | F14: =IF($E$15="B",10,IF($E$15="a",0,5))+$D$15 -> 13
B15: wynik | C15: 2 | D15: 3 | E15: =IF(C15>D15,"A",IF(C15=D15,"C","B")) -> B
C17: 2 mecz | D17: A1 | E17: A3 | F17: A5 | G17: A7 | H17: B2 | I17: B4 | J17: B6 | K17: C1 | L17: C2 | M17: C3 | N17: C4 | O17: C5 | P17: C6 | Q17: C7
C18: =VLOOKUP(D17,tabela!A:B,2,0) -> AUGUSTYNIAK KUBA | D18: =VLOOKUP(K17,tabela!A:B,2,0) -> KHOMENKO SVIATOSLAV | E18: =IF($E$25="A",10,IF($E$25="B",0,5))+$C$25 -> 0 | F18: =IF($E$25="B",10,IF($E$25="a",0,5))+$D$25 -> 18 | I18: zawodnik 13 - pietrzak | K18: pauza:
C19: =VLOOKUP(E17,tabela!A:B,2,0) -> BALWIERCZYK OLIWIER | D19: =VLOOKUP(L17,tabela!A:B,2,0) -> KAŹMIERCZAK JAN | E19: =IF($E$25="A",10,IF($E$25="B",0,5))+$C$25 -> 0 | F19: =IF($E$25="B",10,IF($E$25="a",0,5))+$D$25 -> 18 | I19: zawodnik 21 - olszyński | K19: zawodnik 2
C20: =VLOOKUP(F17,tabela!A:B,2,0) -> CHOROSZ JAN | D20: =VLOOKUP(M17,tabela!A:B,2,0) -> BERGIER BORYS | E20: =IF($E$25="A",10,IF($E$25="B",0,5))+$C$25 -> 0 | F20: =IF($E$25="B",10,IF($E$25="a",0,5))+$D$25 -> 18
C21: =VLOOKUP(G17,tabela!A:B,2,0) -> CICHOSZ RYSZARD | D21: =VLOOKUP(N17,tabela!A:B,2,0) -> DRÓŻDŹ NIKODEM | E21: =IF($E$25="A",10,IF($E$25="B",0,5))+$C$25 -> 0 | F21: =IF($E$25="B",10,IF($E$25="a",0,5))+$D$25 -> 18 | K21: pachulski
C22: =VLOOKUP(H17,tabela!A:B,2,0) -> CIEPŁUCHA DAWID | D22: =VLOOKUP(O17,tabela!A:B,2,0) -> INDELAK ADAM | E22: =IF($E$25="A",10,IF($E$25="B",0,5))+$C$25 -> 0 | F22: =IF($E$25="B",10,IF($E$25="a",0,5))+$D$25 -> 18 | K22: ozdemir
C23: =VLOOKUP(I17,tabela!A:B,2,0) -> GLASNAPP NATAN | D23: =VLOOKUP(P17,tabela!A:B,2,0) -> LINARD ANTONI | E23: =IF($E$25="A",10,IF($E$25="B",0,5))+$C$25 -> 0 | F23: =IF($E$25="B",10,IF($E$25="a",0,5))+$D$25 -> 18
C24: =VLOOKUP(J17,tabela!A:B,2,0) -> zawodnik 13 | D24: =VLOOKUP(Q17,tabela!A:B,2,0) -> zawodnik 21 | E24: =IF($E$25="A",10,IF($E$25="B",0,5))+$C$25 -> 0 | F24: =IF($E$25="B",10,IF($E$25="a",0,5))+$D$25 -> 18 | K24: mokros
B25: wynik | C25: 0 | D25: 8 | E25: =IF(C25>D25,"A",IF(C25=D25,"C","B")) -> B | K25: matczak
C27: 3 mecz | D27: A2 | E27: A6 | F27: B1 | G27: B3 | H27: C1 | I27: C4 | J27: C7 | K27: A4 | L27: B5 | M27: B7 | N27: C2 | O27: C3 | P27: C5 | Q27: C6
C28: =VLOOKUP(D27,tabela!A:B,2,0) -> zawodnik 2 | D28: =VLOOKUP(K27,tabela!A:B,2,0) -> PIETRZAK KAMIL | E28: =IF($E$35="A",10,IF($E$35="B",0,5))+$C$35 -> 1 | F28: =IF($E$35="B",10,IF($E$35="a",0,5))+$D$35 -> 18 | I28: zawodnik 2 - balwierczyk
C29: =VLOOKUP(E27,tabela!A:B,2,0) -> PACHULSKI JULIUSZ | D29: =VLOOKUP(L27,tabela!A:B,2,0) -> MOKROS MATEUSZ | E29: =IF($E$35="A",10,IF($E$35="B",0,5))+$C$35 -> 1 | F29: =IF($E$35="B",10,IF($E$35="a",0,5))+$D$35 -> 18 | I29: zawodnik 21 - augustyniak
C30: =VLOOKUP(F27,tabela!A:B,2,0) -> OZDEMIR MIRAN | D30: =VLOOKUP(M27,tabela!A:B,2,0) -> MATCZAK TOBIASZ | E30: =IF($E$35="A",10,IF($E$35="B",0,5))+$C$35 -> 1 | F30: =IF($E$35="B",10,IF($E$35="a",0,5))+$D$35 -> 18 | K30: CHOROSZ JAN
C31: =VLOOKUP(G27,tabela!A:B,2,0) -> OLSZYŃSKI ADRIAN | D31: =VLOOKUP(N27,tabela!A:B,2,0) -> KAŹMIERCZAK JAN | E31: =IF($E$35="A",10,IF($E$35="B",0,5))+$C$35 -> 1 | F31: =IF($E$35="B",10,IF($E$35="a",0,5))+$D$35 -> 18 | K31: CICHOSZ RYSZARD
C32: =VLOOKUP(H27,tabela!A:B,2,0) -> KHOMENKO SVIATOSLAV | D32: =VLOOKUP(O27,tabela!A:B,2,0) -> BERGIER BORYS | E32: =IF($E$35="A",10,IF($E$35="B",0,5))+$C$35 -> 1 | F32: =IF($E$35="B",10,IF($E$35="a",0,5))+$D$35 -> 18 | K32: CIEPŁUCHA DAWID
C33: =VLOOKUP(I27,tabela!A:B,2,0) -> DRÓŻDŹ NIKODEM | D33: =VLOOKUP(P27,tabela!A:B,2,0) -> INDELAK ADAM | E33: =IF($E$35="A",10,IF($E$35="B",0,5))+$C$35 -> 1 | F33: =IF($E$35="B",10,IF($E$35="a",0,5))+$D$35 -> 18 | K33: GLASNAPP NATAN
C34: =VLOOKUP(J27,tabela!A:B,2,0) -> zawodnik 21 | D34: =VLOOKUP(Q27,tabela!A:B,2,0) -> LINARD ANTONI | E34: =IF($E$35="A",10,IF($E$35="B",0,5))+$C$35 -> 1 | F34: =IF($E$35="B",10,IF($E$35="a",0,5))+$D$35 -> 18 | K34: zawodnik 13
B35: wynik | C35: 1 | D35: 8 | E35: =IF(C35>D35,"A",IF(C35=D35,"C","B")) -> B
C37: 4 mecz | D37: A1 | E37: A5 | F37: A7 | G37: B2 | H37: B6 | I37: C6 | J37: C7 | K37: A2 | L37: A3 | M37: A6 | N37: B3 | O37: B4 | P37: C1 | Q37: C4
C38: =VLOOKUP(D37,tabela!A:B,2,0) -> AUGUSTYNIAK KUBA | D38: =VLOOKUP(K37,tabela!A:B,2,0) -> zawodnik 2 | E38: =IF($E$45="A",10,IF($E$45="B",0,5))+$C$45 -> 18 | F38: =IF($E$45="B",10,IF($E$45="a",0,5))+$D$45 -> 0 | I38: zawodnik 13 - INDELAK | K38: PIETRZAK KAMIL
C39: =VLOOKUP(E37,tabela!A:B,2,0) -> CHOROSZ JAN | D39: =VLOOKUP(L37,tabela!A:B,2,0) -> BALWIERCZYK OLIWIER | E39: =IF($E$45="A",10,IF($E$45="B",0,5))+$C$45 -> 18 | F39: =IF($E$45="B",10,IF($E$45="a",0,5))+$D$45 -> 0 | I39: zawodnik 21 - OZDEMIR
C40: =VLOOKUP(F37,tabela!A:B,2,0) -> CICHOSZ RYSZARD | D40: =VLOOKUP(M37,tabela!A:B,2,0) -> PACHULSKI JULIUSZ | E40: =IF($E$45="A",10,IF($E$45="B",0,5))+$C$45 -> 18 | F40: =IF($E$45="B",10,IF($E$45="a",0,5))+$D$45 -> 0 | I40: zawodnik 2 - MOKROS
C41: =VLOOKUP(G37,tabela!A:B,2,0) -> CIEPŁUCHA DAWID | D41: =VLOOKUP(N37,tabela!A:B,2,0) -> OLSZYŃSKI ADRIAN | E41: =IF($E$45="A",10,IF($E$45="B",0,5))+$C$45 -> 18 | F41: =IF($E$45="B",10,IF($E$45="a",0,5))+$D$45 -> 0 | K41: MATCZAK TOBIASZ | L41: 2X
C42: =VLOOKUP(H37,tabela!A:B,2,0) -> zawodnik 13 | D42: =VLOOKUP(O37,tabela!A:B,2,0) -> GLASNAPP NATAN | E42: =IF($E$45="A",10,IF($E$45="B",0,5))+$C$45 -> 18 | F42: =IF($E$45="B",10,IF($E$45="a",0,5))+$D$45 -> 0 | K42: KAŹMIERCZAK JAN
C43: =VLOOKUP(I37,tabela!A:B,2,0) -> LINARD ANTONI | D43: =VLOOKUP(P37,tabela!A:B,2,0) -> KHOMENKO SVIATOSLAV | E43: =IF($E$45="A",10,IF($E$45="B",0,5))+$C$45 -> 18 | F43: =IF($E$45="B",10,IF($E$45="a",0,5))+$D$45 -> 0 | K43: BERGIER BORYS
C44: =VLOOKUP(J37,tabela!A:B,2,0) -> zawodnik 21 | D44: =VLOOKUP(Q37,tabela!A:B,2,0) -> DRÓŻDŹ NIKODEM | E44: =IF($E$45="A",10,IF($E$45="B",0,5))+$C$45 -> 18 | F44: =IF($E$45="B",10,IF($E$45="a",0,5))+$D$45 -> 0
B45: wynik | C45: 8 | D45: 0 | E45: =IF(C45>D45,"A",IF(C45=D45,"C","B")) -> A
C47: 5 mecz | D47: A2 | E47: A4 | F47: A5 | G47: B2 | H47: B7 | I47: C3 | J47: C5 | K47: A3 | L47: A7 | M47: B1 | N47: B5 | O47: B6 | P47: C1 | Q47: C2
C48: =VLOOKUP(D47,tabela!A:B,2,0) -> zawodnik 2 | D48: =VLOOKUP(K47,tabela!A:B,2,0) -> BALWIERCZYK OLIWIER | E48: =IF($E$55="A",10,IF($E$55="B",0,5))+$C$55 -> 14 | F48: =IF($E$55="B",10,IF($E$55="a",0,5))+$D$55 -> 1 | I48: zawodnik 2 - DROZDZ | K48: AUGUSTYNIAK KUBA
C49: =VLOOKUP(E47,tabela!A:B,2,0) -> PIETRZAK KAMIL | D49: =VLOOKUP(L47,tabela!A:B,2,0) -> CICHOSZ RYSZARD | E49: =IF($E$55="A",10,IF($E$55="B",0,5))+$C$55 -> 14 | F49: =IF($E$55="B",10,IF($E$55="a",0,5))+$D$55 -> 1 | I49: zawodnik 13 - GLASNAPP
C50: =VLOOKUP(F47,tabela!A:B,2,0) -> CHOROSZ JAN | D50: =VLOOKUP(M47,tabela!A:B,2,0) -> OZDEMIR MIRAN | E50: =IF($E$55="A",10,IF($E$55="B",0,5))+$C$55 -> 14 | F50: =IF($E$55="B",10,IF($E$55="a",0,5))+$D$55 -> 1 | K50: OLSZYŃSKI ADRIAN
C51: =VLOOKUP(G47,tabela!A:B,2,0) -> CIEPŁUCHA DAWID | D51: =VLOOKUP(N47,tabela!A:B,2,0) -> MOKROS MATEUSZ | E51: =IF($E$55="A",10,IF($E$55="B",0,5))+$C$55 -> 14 | F51: =IF($E$55="B",10,IF($E$55="a",0,5))+$D$55 -> 1 | K51: PUCHALSKI JULIUSZ | L51: 2X
C52: =VLOOKUP(H47,tabela!A:B,2,0) -> MATCZAK TOBIASZ | D52: =VLOOKUP(O47,tabela!A:B,2,0) -> zawodnik 13 | E52: =IF($E$55="A",10,IF($E$55="B",0,5))+$C$55 -> 14 | F52: =IF($E$55="B",10,IF($E$55="a",0,5))+$D$55 -> 1
C53: =VLOOKUP(I47,tabela!A:B,2,0) -> BERGIER BORYS | D53: =VLOOKUP(P47,tabela!A:B,2,0) -> KHOMENKO SVIATOSLAV | E53: =IF($E$55="A",10,IF($E$55="B",0,5))+$C$55 -> 14 | F53: =IF($E$55="B",10,IF($E$55="a",0,5))+$D$55 -> 1 | K53: LINARD ANTONI
C54: =VLOOKUP(J47,tabela!A:B,2,0) -> INDELAK ADAM | D54: =VLOOKUP(Q47,tabela!A:B,2,0) -> KAŹMIERCZAK JAN | E54: =IF($E$55="A",10,IF($E$55="B",0,5))+$C$55 -> 14 | F54: =IF($E$55="B",10,IF($E$55="a",0,5))+$D$55 -> 1 | K54: zawodnik 21
B55: wynik | C55: 4 | D55: 1 | E55: =IF(C55>D55,"A",IF(C55=D55,"C","B")) -> A
C57: 6 mecz | D57: A1 | E57: A6 | F57: B1 | G57: B3 | H57: B4 | I57: C5 | J57: C7 | K57: A4 | L57: B5 | M57: B7 | N57: C2 | O57: C3 | P57: C4 | Q57: C6
C58: =VLOOKUP(D57,tabela!A:B,2,0) -> AUGUSTYNIAK KUBA | D58: =VLOOKUP(K57,tabela!A:B,2,0) -> PIETRZAK KAMIL | E58: =IF($E$65="A",10,IF($E$65="B",0,5))+$C$65 -> 2 | F58: =IF($E$65="B",10,IF($E$65="a",0,5))+$D$65 -> 18 | I58: zawodnik 21 - CIEPŁUCHA | K58: KHOMENKO SVIATOSLAV
C59: =VLOOKUP(E57,tabela!A:B,2,0) -> PACHULSKI JULIUSZ | D59: =VLOOKUP(L57,tabela!A:B,2,0) -> MOKROS MATEUSZ | E59: =IF($E$65="A",10,IF($E$65="B",0,5))+$C$65 -> 2 | F59: =IF($E$65="B",10,IF($E$65="a",0,5))+$D$65 -> 18 | K59: CIEPŁUCHA DAWID
C60: =VLOOKUP(F57,tabela!A:B,2,0) -> OZDEMIR MIRAN | D60: =VLOOKUP(M57,tabela!A:B,2,0) -> MATCZAK TOBIASZ | E60: =IF($E$65="A",10,IF($E$65="B",0,5))+$C$65 -> 2 | F60: =IF($E$65="B",10,IF($E$65="a",0,5))+$D$65 -> 18 | K60: zawodnik 13
C61: =VLOOKUP(G57,tabela!A:B,2,0) -> OLSZYŃSKI ADRIAN | D61: =VLOOKUP(N57,tabela!A:B,2,0) -> KAŹMIERCZAK JAN | E61: =IF($E$65="A",10,IF($E$65="B",0,5))+$C$65 -> 2 | F61: =IF($E$65="B",10,IF($E$65="a",0,5))+$D$65 -> 18 | K61: zawodnik 2
C62: =VLOOKUP(H57,tabela!A:B,2,0) -> GLASNAPP NATAN | D62: =VLOOKUP(O57,tabela!A:B,2,0) -> BERGIER BORYS | E62: =IF($E$65="A",10,IF($E$65="B",0,5))+$C$65 -> 2 | F62: =IF($E$65="B",10,IF($E$65="a",0,5))+$D$65 -> 18 | K62: BALWIERCZYK JAN
C63: =VLOOKUP(I57,tabela!A:B,2,0) -> INDELAK ADAM | D63: =VLOOKUP(P57,tabela!A:B,2,0) -> DRÓŻDŹ NIKODEM | E63: =IF($E$65="A",10,IF($E$65="B",0,5))+$C$65 -> 2 | F63: =IF($E$65="B",10,IF($E$65="a",0,5))+$D$65 -> 18 | K63: CHOROSZ JAN | L63: 2X
C64: =VLOOKUP(J57,tabela!A:B,2,0) -> zawodnik 21 | D64: =VLOOKUP(Q57,tabela!A:B,2,0) -> LINARD ANTONI | E64: =IF($E$65="A",10,IF($E$65="B",0,5))+$C$65 -> 2 | F64: =IF($E$65="B",10,IF($E$65="a",0,5))+$D$65 -> 18 | K64: CICHOSZ RYSZARD
B65: wynik | C65: 2 | D65: 8 | E65: =IF(C65>D65,"A",IF(C65=D65,"C","B")) -> B
C67: 7 mecz | D67: A2 | E67: A6 | F67: A7 | G67: B6 | H67: C1 | I67: C3 | J67: C6 | K67: A3 | L67: A5 | M67: B2 | N67: B5 | O67: B7 | P67: C4 | Q67: C7
C68: =VLOOKUP(D67,tabela!A:B,2,0) -> zawodnik 2 | D68: =VLOOKUP(K67,tabela!A:B,2,0) -> BALWIERCZYK OLIWIER | E68: =IF($E$75="A",10,IF($E$75="B",0,5))+$C$75 -> 16 | F68: =IF($E$75="B",10,IF($E$75="a",0,5))+$D$75 -> 2 | I68: zawodnik 2 - OLSZYŃSKI | K68: INDELAK ADAM | L68: 2x
C69: =VLOOKUP(E67,tabela!A:B,2,0) -> PACHULSKI JULIUSZ | D69: =VLOOKUP(L67,tabela!A:B,2,0) -> CHOROSZ JAN | E69: =IF($E$75="A",10,IF($E$75="B",0,5))+$C$75 -> 16 | F69: =IF($E$75="B",10,IF($E$75="a",0,5))+$D$75 -> 2 | I69: zawodnik 13 - GLASNAPP
C70: =VLOOKUP(F67,tabela!A:B,2,0) -> CICHOSZ RYSZARD | D70: =VLOOKUP(M67,tabela!A:B,2,0) -> CIEPŁUCHA DAWID | E70: =IF($E$75="A",10,IF($E$75="B",0,5))+$C$75 -> 16 | F70: =IF($E$75="B",10,IF($E$75="a",0,5))+$D$75 -> 2 | I70: zawodnik 21 - KAŹMIERCZAK | K70: PIETRZAK KAMIL | L70: 2x
C71: =VLOOKUP(G67,tabela!A:B,2,0) -> zawodnik 13 | D71: =VLOOKUP(N67,tabela!A:B,2,0) -> MOKROS MATEUSZ | E71: =IF($E$75="A",10,IF($E$75="B",0,5))+$C$75 -> 16 | F71: =IF($E$75="B",10,IF($E$75="a",0,5))+$D$75 -> 2 | K71: AUGUSTYNIAK KUBA | L71: 2x
C72: =VLOOKUP(H67,tabela!A:B,2,0) -> KHOMENKO SVIATOSLAV | D72: =VLOOKUP(O67,tabela!A:B,2,0) -> MATCZAK TOBIASZ | E72: =IF($E$75="A",10,IF($E$75="B",0,5))+$C$75 -> 16 | F72: =IF($E$75="B",10,IF($E$75="a",0,5))+$D$75 -> 2 | K72: OZDEMIR MIRAN | L72: 2x
C73: =VLOOKUP(I67,tabela!A:B,2,0) -> BERGIER BORYS | D73: =VLOOKUP(P67,tabela!A:B,2,0) -> DRÓŻDŹ NIKODEM | E73: =IF($E$75="A",10,IF($E$75="B",0,5))+$C$75 -> 16 | F73: =IF($E$75="B",10,IF($E$75="a",0,5))+$D$75 -> 2
C74: =VLOOKUP(J67,tabela!A:B,2,0) -> LINARD ANTONI | D74: =VLOOKUP(Q67,tabela!A:B,2,0) -> zawodnik 21 | E74: =IF($E$75="A",10,IF($E$75="B",0,5))+$C$75 -> 16 | F74: =IF($E$75="B",10,IF($E$75="a",0,5))+$D$75 -> 2
B75: wynik | C75: 6 | D75: 2 | E75: =IF(C75>D75,"A",IF(C75=D75,"C","B")) -> A
C77: 8 mecz | D77: A1 | E77: A2 | F77: A7 | G77: B1 | H77: B6 | I77: B7 | J77: C5 | K77: A4 | L77: A5 | M77: B2 | N77: B3 | O77: B4 | P77: C2 | Q77: C3
C78: =VLOOKUP(D77,tabela!A:B,2,0) -> AUGUSTYNIAK KUBA | D78: =VLOOKUP(K77,tabela!A:B,2,0) -> PIETRZAK KAMIL | E78: =IF($E$85="A",10,IF($E$85="B",0,5))+$C$85 -> 23 | F78: =IF($E$85="B",10,IF($E$85="a",0,5))+$D$85 -> 4 | I78: zawodnik 2 - PACHULSKI
C79: =VLOOKUP(E77,tabela!A:B,2,0) -> zawodnik 2 | D79: =VLOOKUP(L77,tabela!A:B,2,0) -> CHOROSZ JAN | E79: =IF($E$85="A",10,IF($E$85="B",0,5))+$C$85 -> 23 | F79: =IF($E$85="B",10,IF($E$85="a",0,5))+$D$85 -> 4 | I79: zawodnik 13 - LINARD | K79: MOKROS MATEUSZ | L79: 2X
C80: =VLOOKUP(F77,tabela!A:B,2,0) -> CICHOSZ RYSZARD | D80: =VLOOKUP(M77,tabela!A:B,2,0) -> CIEPŁUCHA DAWID | E80: =IF($E$85="A",10,IF($E$85="B",0,5))+$C$85 -> 23 | F80: =IF($E$85="B",10,IF($E$85="a",0,5))+$D$85 -> 4 | K80: zawodnik 21
C81: =VLOOKUP(G77,tabela!A:B,2,0) -> OZDEMIR MIRAN | D81: =VLOOKUP(N77,tabela!A:B,2,0) -> OLSZYŃSKI ADRIAN | E81: =IF($E$85="A",10,IF($E$85="B",0,5))+$C$85 -> 23 | F81: =IF($E$85="B",10,IF($E$85="a",0,5))+$D$85 -> 4 | K81: DRÓŻDŹ NIKODEM | L81: 2X
C82: =VLOOKUP(H77,tabela!A:B,2,0) -> zawodnik 13 | D82: =VLOOKUP(O77,tabela!A:B,2,0) -> GLASNAPP NATAN | E82: =IF($E$85="A",10,IF($E$85="B",0,5))+$C$85 -> 23 | F82: =IF($E$85="B",10,IF($E$85="a",0,5))+$D$85 -> 4 | K82: KHOMENKO SVIATOSLAV | L82: 2X
C83: =VLOOKUP(I77,tabela!A:B,2,0) -> MATCZAK TOBIASZ | D83: =VLOOKUP(P77,tabela!A:B,2,0) -> KAŹMIERCZAK JAN | E83: =IF($E$85="A",10,IF($E$85="B",0,5))+$C$85 -> 23 | F83: =IF($E$85="B",10,IF($E$85="a",0,5))+$D$85 -> 4
C84: =VLOOKUP(J77,tabela!A:B,2,0) -> INDELAK ADAM | D84: =VLOOKUP(Q77,tabela!A:B,2,0) -> BERGIER BORYS | E84: =IF($E$85="A",10,IF($E$85="B",0,5))+$C$85 -> 23 | F84: =IF($E$85="B",10,IF($E$85="a",0,5))+$D$85 -> 4 | K84: BALWIERCZYK JAN | L84: 2X
B85: wynik | C85: 13 | D85: 4 | E85: =IF(C85>D85,"A",IF(C85=D85,"C","B")) -> A
C87: 9 mecz | D87: A1 | E87: A6 | F87: B5 | G87: C1 | H87: C4 | I87: C6 | J87: C7 | K87: A3 | L87: A4 | M87: B1 | N87: B3 | O87: B4 | P87: C2 | Q87: C5
C88: =VLOOKUP(D87,tabela!A:B,2,0) -> AUGUSTYNIAK KUBA | D88: =VLOOKUP(K87,tabela!A:B,2,0) -> BALWIERCZYK OLIWIER | E88: =IF($E$95="A",10,IF($E$95="B",0,5))+$C$95 -> 3 | F88: =IF($E$95="B",10,IF($E$95="a",0,5))+$D$95 -> 15 | I88: zawodnik 21 - MATCZAK | K88: BERGIER BORYS | L88: 2X | Q88: 2
C89: =VLOOKUP(E87,tabela!A:B,2,0) -> PACHULSKI JULIUSZ | D89: =VLOOKUP(L87,tabela!A:B,2,0) -> PIETRZAK KAMIL | E89: =IF($E$95="A",10,IF($E$95="B",0,5))+$C$95 -> 3 | F89: =IF($E$95="B",10,IF($E$95="a",0,5))+$D$95 -> 15 | K89: MATCZAK TOBIASZ | L89: 2X
C90: =VLOOKUP(F87,tabela!A:B,2,0) -> MOKROS MATEUSZ | D90: =VLOOKUP(M87,tabela!A:B,2,0) -> OZDEMIR MIRAN | E90: =IF($E$95="A",10,IF($E$95="B",0,5))+$C$95 -> 3 | F90: =IF($E$95="B",10,IF($E$95="a",0,5))+$D$95 -> 15 | K90: CIEPŁUCHA DAWID | L90: 3X
C91: =VLOOKUP(G87,tabela!A:B,2,0) -> KHOMENKO SVIATOSLAV | D91: =VLOOKUP(N87,tabela!A:B,2,0) -> OLSZYŃSKI ADRIAN | E91: =IF($E$95="A",10,IF($E$95="B",0,5))+$C$95 -> 3 | F91: =IF($E$95="B",10,IF($E$95="a",0,5))+$D$95 -> 15 | K91: CHOROSZ JAN | L91: 3X
C92: =VLOOKUP(H87,tabela!A:B,2,0) -> DRÓŻDŹ NIKODEM | D92: =VLOOKUP(O87,tabela!A:B,2,0) -> GLASNAPP NATAN | E92: =IF($E$95="A",10,IF($E$95="B",0,5))+$C$95 -> 3 | F92: =IF($E$95="B",10,IF($E$95="a",0,5))+$D$95 -> 15 | K92: zawodnik 13
C93: =VLOOKUP(I87,tabela!A:B,2,0) -> LINARD ANTONI | D93: =VLOOKUP(P87,tabela!A:B,2,0) -> KAŹMIERCZAK JAN | E93: =IF($E$95="A",10,IF($E$95="B",0,5))+$C$95 -> 3 | F93: =IF($E$95="B",10,IF($E$95="a",0,5))+$D$95 -> 15 | K93: CICHOSZ RYSZARD | L93: 2X
C94: =VLOOKUP(J87,tabela!A:B,2,0) -> zawodnik 21 | D94: =VLOOKUP(Q87,tabela!A:B,2,0) -> INDELAK ADAM | E94: =IF($E$95="A",10,IF($E$95="B",0,5))+$C$95 -> 3 | F94: =IF($E$95="B",10,IF($E$95="a",0,5))+$D$95 -> 15 | K94: zawodnik 2
B95: wynik | C95: 3 | D95: 5 | E95: =IF(C95>D95,"A",IF(C95=D95,"C","B")) -> B
C97: 10 mecz | D97: A1 | E97: A3 | F97: A5 | G97: B6 | H97: B7 | I97: C4 | J97: C7 | K97: A2 | L97: A6 | M97: A7 | N97: B2 | O97: B5 | P97: C2 | Q97: C3
C98: =VLOOKUP(D97,tabela!A:B,2,0) -> AUGUSTYNIAK KUBA | D98: =VLOOKUP(K97,tabela!A:B,2,0) -> zawodnik 2 | E98: =IF($E$105="A",10,IF($E$105="B",0,5))+$C$105 -> 0 | F98: =IF($E$105="B",10,IF($E$105="a",0,5))+$D$105 -> 21 | I98: zawodnik 2 - KHOMENKO | K98: LINARD ANTONI
C99: =VLOOKUP(E97,tabela!A:B,2,0) -> BALWIERCZYK OLIWIER | D99: =VLOOKUP(L97,tabela!A:B,2,0) -> PACHULSKI JULIUSZ | E99: =IF($E$105="A",10,IF($E$105="B",0,5))+$C$105 -> 0 | F99: =IF($E$105="B",10,IF($E$105="a",0,5))+$D$105 -> 21 | I99: zawodnik 13 - OZDEMIR | K99: INDELAK ADAM
C100: =VLOOKUP(F97,tabela!A:B,2,0) -> CHOROSZ JAN | D100: =VLOOKUP(M97,tabela!A:B,2,0) -> CICHOSZ RYSZARD | E100: =IF($E$105="A",10,IF($E$105="B",0,5))+$C$105 -> 0 | F100: =IF($E$105="B",10,IF($E$105="a",0,5))+$D$105 -> 21 | I100: zawodnik 21 - LINARD | K100: PIETRZAK KAMIL
C101: =VLOOKUP(G97,tabela!A:B,2,0) -> zawodnik 13 | D101: =VLOOKUP(N97,tabela!A:B,2,0) -> CIEPŁUCHA DAWID | E101: =IF($E$105="A",10,IF($E$105="B",0,5))+$C$105 -> 0 | F101: =IF($E$105="B",10,IF($E$105="a",0,5))+$D$105 -> 21 | K101: KHOMENKO SVIATOSLAV
C102: =VLOOKUP(H97,tabela!A:B,2,0) -> MATCZAK TOBIASZ | D102: =VLOOKUP(O97,tabela!A:B,2,0) -> MOKROS MATEUSZ | E102: =IF($E$105="A",10,IF($E$105="B",0,5))+$C$105 -> 0 | F102: =IF($E$105="B",10,IF($E$105="a",0,5))+$D$105 -> 21 | K102: OZDEMIR MIRAN
C103: =VLOOKUP(I97,tabela!A:B,2,0) -> DRÓŻDŹ NIKODEM | D103: =VLOOKUP(P97,tabela!A:B,2,0) -> KAŹMIERCZAK JAN | E103: =IF($E$105="A",10,IF($E$105="B",0,5))+$C$105 -> 0 | F103: =IF($E$105="B",10,IF($E$105="a",0,5))+$D$105 -> 21 | K103: OLSZYŃSKI ADRIAN
C104: =VLOOKUP(J97,tabela!A:B,2,0) -> zawodnik 21 | D104: =VLOOKUP(Q97,tabela!A:B,2,0) -> BERGIER BORYS | E104: =IF($E$105="A",10,IF($E$105="B",0,5))+$C$105 -> 0 | F104: =IF($E$105="B",10,IF($E$105="a",0,5))+$D$105 -> 21 | K104: GLASNAPP NATAN
B105: wynik | C105: 0 | D105: 11 | E105: =IF(C105>D105,"A",IF(C105=D105,"C","B")) -> B
C107: 11 mecz | D107: A3 | E107: A7 | F107: B1 | G107: B5 | H107: C1 | I107: C3 | J107: C5 | K107: A2 | L107: A4 | M107: A5 | N107: B3 | O107: B4 | P107: B7 | Q107: C6
C108: =VLOOKUP(D107,tabela!A:B,2,0) -> BALWIERCZYK OLIWIER | D108: =VLOOKUP(K107,tabela!A:B,2,0) -> zawodnik 2 | E108: =IF($E$115="A",10,IF($E$115="B",0,5))+$C$115 -> 5 | F108: =IF($E$115="B",10,IF($E$115="a",0,5))+$D$115 -> 5
C109: =VLOOKUP(E107,tabela!A:B,2,0) -> CICHOSZ RYSZARD | D109: =VLOOKUP(L107,tabela!A:B,2,0) -> PIETRZAK KAMIL | E109: =IF($E$115="A",10,IF($E$115="B",0,5))+$C$115 -> 5 | F109: =IF($E$115="B",10,IF($E$115="a",0,5))+$D$115 -> 5
C110: =VLOOKUP(F107,tabela!A:B,2,0) -> OZDEMIR MIRAN | D110: =VLOOKUP(M107,tabela!A:B,2,0) -> CHOROSZ JAN | E110: =IF($E$115="A",10,IF($E$115="B",0,5))+$C$115 -> 5 | F110: =IF($E$115="B",10,IF($E$115="a",0,5))+$D$115 -> 5
C111: =VLOOKUP(G107,tabela!A:B,2,0) -> MOKROS MATEUSZ | D111: =VLOOKUP(N107,tabela!A:B,2,0) -> OLSZYŃSKI ADRIAN | E111: =IF($E$115="A",10,IF($E$115="B",0,5))+$C$115 -> 5 | F111: =IF($E$115="B",10,IF($E$115="a",0,5))+$D$115 -> 5
C112: =VLOOKUP(H107,tabela!A:B,2,0) -> KHOMENKO SVIATOSLAV | D112: =VLOOKUP(O107,tabela!A:B,2,0) -> GLASNAPP NATAN | E112: =IF($E$115="A",10,IF($E$115="B",0,5))+$C$115 -> 5 | F112: =IF($E$115="B",10,IF($E$115="a",0,5))+$D$115 -> 5
C113: =VLOOKUP(I107,tabela!A:B,2,0) -> BERGIER BORYS | D113: =VLOOKUP(P107,tabela!A:B,2,0) -> MATCZAK TOBIASZ | E113: =IF($E$115="A",10,IF($E$115="B",0,5))+$C$115 -> 5 | F113: =IF($E$115="B",10,IF($E$115="a",0,5))+$D$115 -> 5
...

Sheet tabela
B1: ZAWODNIK | C1: PUNKTY | D1: 1 | E1: 2 | F1: 3 | G1: 4 | H1: 5 | I1: 6 | J1: 7 | K1: 8 | L1: 9 | M1: 10 | N1: 11 | O1: 12 | P1: 13 | Q1: 14 | R1: 15
A2: C3 | B2: BERGIER BORYS | C2: =SUM(D2:R2) -> 124 | D2: P | E2: =VLOOKUP(B2,spotkania!$D$18:$F$24,3,0) -> 18 | F2: =VLOOKUP(B2,spotkania!$D$28:$F$34,3,0) -> 18 | G2: P | H2: =VLOOKUP(B2,spotkania!$C$48:$E$54,3,0) -> 14 | I2: =VLOOKUP(B2,spotkania!$D$58:$F$64,3,0) -> 18 | J2: =VLOOKUP(B2,spotkania!$C$68:$E$74,3,0) -> 16 | K2: =VLOOKUP(B2,spotkania!$D$78:$F$84,3,0) -> 4 | L2: P | M2: =VLOOKUP(B2,spotkania!$D$98:$F$104,3,0) -> 21 | N2: =VLOOKUP(B2,spotkania!$C$108:$E$114,3,0) -> 5 | O2: P | P2: =VLOOKUP(B2,spotkania!$D$128:$F$134,3,0) -> 5 | Q2: P | R2: =VLOOKUP(B2,spotkania!$D$148:$F$154,3,0) -> 5
A3: C6 | B3: LINARD ANTONI | C3: =SUM(D3:R3) -> 111 | D3: P | E3: =VLOOKUP(B3,spotkania!$D$18:$F$24,3,0) -> 18 | F3: =VLOOKUP(B3,spotkania!$D$28:$F$34,3,0) -> 18 | G3: =VLOOKUP(B3,spotkania!$C$38:$E$44,3,0) -> 18 | H3: P | I3: =VLOOKUP(B3,spotkania!$D$58:$F$64,3,0) -> 18 | J3: =VLOOKUP(B3,spotkania!$C$68:$E$74,3,0) -> 16 | K3: P | L3: =VLOOKUP(B3,spotkania!$C$88:$E$94,3,0) -> 3 | M3: P | N3: =VLOOKUP(B3,spotkania!$D$108:$F$114,3,0) -> 5 | O3: =VLOOKUP(B3,spotkania!$C$118:$E$124,3,0) -> 5 | P3: P | Q3: =VLOOKUP(B3,spotkania!$D$138:$F$144,3,0) -> 5 | R3: =VLOOKUP(B3,spotkania!$C$148:$E$154,3,0) -> 5
A4: C5 | B4: INDELAK ADAM | C4: =SUM(D4:R4) -> 110 | D4: P | E4: =VLOOKUP(B4,spotkania!$D$18:$F$24,3,0) -> 18 | F4: =VLOOKUP(B4,spotkania!$D$28:$F$34,3,0) -> 18 | G4: P | H4: =VLOOKUP(B4,spotkania!$C$48:$E$54,3,0) -> 14 | I4: =VLOOKUP(B4,spotkania!$C$58:$E$64,3,0) -> 2 | J4: P | K4: =VLOOKUP(B4,spotkania!$C$78:$E$84,3,0) -> 23 | L4: =VLOOKUP(B4,spotkania!$D$88:$F$94,3,0) -> 15 | M4: P | N4: =VLOOKUP(B4,spotkania!$C$108:$E$114,3,0) -> 5 | O4: =VLOOKUP(B4,spotkania!$D$118:$F$124,3,0) -> 5 | P4: P | Q4: =VLOOKUP(B4,spotkania!$C$138:$E$144,3,0) -> 5 | R4: =VLOOKUP(B4,spotkania!$D$148:$F$154,3,0) -> 5
A5: C2 | B5: KAŹMIERCZAK JAN | C5: =SUM(D5:R5) -> 110 | D5: P | E5: =VLOOKUP(B5,spotkania!$D$18:$F$24,3,0) -> 18 | F5: =VLOOKUP(B5,spotkania!$D$28:$F$34,3,0) -> 18 | G5: P | H5: =VLOOKUP(B5,spotkania!$D$48:$F$54,3,0) -> 1 | I5: =VLOOKUP(B5,spotkania!$D$58:$F$64,3,0) -> 18 | J5: P | K5: =VLOOKUP(B5,spotkania!$D$78:$F$84,3,0) -> 4 | L5: =VLOOKUP(B5,spotkania!$D$88:$F$94,3,0) -> 15 | M5: =VLOOKUP(B5,spotkania!$D$98:$F$104,3,0) -> 21 | N5: P | O5: =VLOOKUP(B5,spotkania!$C$118:$E$124,3,0) -> 5 | P5: =VLOOKUP(B5,spotkania!$D$128:$F$134,3,0) -> 5 | Q5: =VLOOKUP(B5,spotkania!$C$138:$E$144,3,0) -> 5 | R5: P
A6: B7 | B6: MATCZAK TOBIASZ | C6: =SUM(D6:R6) -> 103 | D6: =VLOOKUP(B6,spotkania!$D$8:$F$14,3,0) -> 13 | E6: P | F6: =VLOOKUP(B6,spotkania!$D$28:$F$34,3,0) -> 18 | G6: P | H6: =VLOOKUP(B6,spotkania!$C$48:$E$54,3,0) -> 14 | I6: =VLOOKUP(B6,spotkania!$D$58:$F$64,3,0) -> 18 | J6: =VLOOKUP(B6,spotkania!$D$68:$F$74,3,0) -> 2 | K6: =VLOOKUP(B6,spotkania!$C$78:$E$84,3,0) -> 23 | L6: P | M6: =VLOOKUP(B6,spotkania!$C$98:$E$104,3,0) -> 0 | N6: =VLOOKUP(B6,spotkania!$D$108:$F$114,3,0) -> 5 | O6: P | P6: =VLOOKUP(B6,spotkania!$C$128:$E$134,3,0) -> 5 | Q6: =VLOOKUP(B6,spotkania!$C$138:$E$144,3,0) -> 5 | R6: P
A7: A7 | B7: CICHOSZ RYSZARD | C7: =SUM(D7:R7) -> 96 | D7: =VLOOKUP(B7,spotkania!$C$8:$E$14,3,0) -> 2 | E7: =VLOOKUP(B7,spotkania!$C$18:$E$24,3,0) -> 0 | F7: P | G7: =VLOOKUP(B7,spotkania!$C$38:$E$44,3,0) -> 18 | H7: =VLOOKUP(B7,spotkania!$D$48:$F$54,3,0) -> 1 | I7: P | J7: =VLOOKUP(B7,spotkania!$C$68:$E$74,3,0) -> 16 | K7: =VLOOKUP(B7,spotkania!$C$78:$E$84,3,0) -> 23 | L7: P | M7: =VLOOKUP(B7,spotkania!$D$98:$F$104,3,0) -> 21 | N7: =VLOOKUP(B7,spotkania!$C$108:$E$114,3,0) -> 5 | O7: P | P7: =VLOOKUP(B7,spotkania!$C$128:$E$134,3,0) -> 5 | Q7: P | R7: =VLOOKUP(B7,spotkania!$D$148:$F$154,3,0) -> 5
A8: A2 | B8: zawodnik 2 | C8: =SUM(D8:R8) -> 92 | D8: =VLOOKUP(B8,spotkania!$C$8:$E$14,3,0) -> 2 | E8: P | F8: =VLOOKUP(B8,spotkania!$C$28:$E$34,3,0) -> 1 | G8: =VLOOKUP(B8,spotkania!$D$38:$F$44,3,0) -> 0 | H8: =VLOOKUP(B8,spotkania!$C$48:$E$54,3,0) -> 14 | I8: P | J8: =VLOOKUP(B8,spotkania!$C$68:$E$74,3,0) -> 16 | K8: =VLOOKUP(B8,spotkania!$C$78:$E$84,3,0) -> 23 | L8: P | M8: =VLOOKUP(B8,spotkania!$D$98:$F$104,3,0) -> 21 | N8: =VLOOKUP(B8,spotkania!$D$108:$F$114,3,0) -> 5 | O8: P | P8: =VLOOKUP(B8,spotkania!$C$128:$E$134,3,0) -> 5 | Q8: P | R8: =VLOOKUP(B8,spotkania!$D$148:$F$154,3,0) -> 5
A9: A4 | B9: PIETRZAK KAMIL | C9: =SUM(D9:R9) -> 91 | D9: =VLOOKUP(B9,spotkania!$C$8:$E$14,3,0) -> 2 | E9: P | F9: =VLOOKUP(B9,spotkania!$D$28:$F$34,3,0) -> 18 | G9: P | H9: =VLOOKUP(B9,spotkania!$C$48:$E$54,3,0) -> 14 | I9: =VLOOKUP(B9,spotkania!$D$58:$F$64,3,0) -> 18 | J9: P | K9: =VLOOKUP(B9,spotkania!$D$78:$F$84,3,0) -> 4 | L9: =VLOOKUP(B9,spotkania!$D$88:$F$94,3,0) -> 15 | M9: P | N9: =VLOOKUP(B9,spotkania!$D$108:$F$114,3,0) -> 5 | O9: =VLOOKUP(B9,spotkania!$C$118:$E$124,3,0) -> 5 | P9: =VLOOKUP(B9,spotkania!$D$128:$F$134,3,0) -> 5 | Q9: P | R9: =VLOOKUP(B9,spotkania!$D$148:$F$154,3,0) -> 5
A10: B5 | B10: MOKROS MATEUSZ | C10: =SUM(D10:R10) -> 91 | D10: =VLOOKUP(B10,spotkania!$D$8:$F$14,3,0) -> 13 | E10: P | F10: =VLOOKUP(B10,spotkania!$D$28:$F$34,3,0) -> 18 | G10: P | H10: =VLOOKUP(B10,spotkania!$D$48:$F$54,3,0) -> 1 | I10: =VLOOKUP(B10,spotkania!$D$58:$F$64,3,0) -> 18 | J10: =VLOOKUP(B10,spotkania!$D$68:$F$74,3,0) -> 2 | K10: P | L10: =VLOOKUP(B10,spotkania!$C$88:$E$94,3,0) -> 3 | M10: =VLOOKUP(B10,spotkania!$D$98:$F$104,3,0) -> 21 | N10: =VLOOKUP(B10,spotkania!$C$108:$E$114,3,0) -> 5 | O10: P | P10: =VLOOKUP(B10,spotkania!$D$128:$F$134,3,0) -> 5 | Q10: =VLOOKUP(B10,spotkania!$D$138:$F$144,3,0) -> 5 | R10: P
A11: B2 | B11: CIEPŁUCHA DAWID | C11: =SUM(D11:R11) -> 87 | D11: =VLOOKUP(B11,spotkania!$D$8:$F$14,3,0) -> 13 | E11: =VLOOKUP(B11,spotkania!$C$18:$E$24,3,0) -> 0 | F11: P | G11: =VLOOKUP(B11,spotkania!$C$38:$E$44,3,0) -> 18 | H11: =VLOOKUP(B11,spotkania!$C$48:$E$54,3,0) -> 14 | I11: P | J11: =VLOOKUP(B11,spotkania!$D$68:$F$74,3,0) -> 2 | K11: =VLOOKUP(B11,spotkania!$D$78:$F$84,3,0) -> 4 | L11: P | M11: =VLOOKUP(B11,spotkania!$D$98:$F$104,3,0) -> 21 | N11: P | O11: =VLOOKUP(B11,spotkania!$D$118:$F$124,3,0) -> 5 | P11: =VLOOKUP(B11,spotkania!$D$128:$F$134,3,0) -> 5 | Q11: =VLOOKUP(B11,spotkania!$D$138:$F$144,3,0) -> 5 | R11: P
A12: B6 | B12: zawodnik 13 | C12: =SUM(D12:R12) -> 86 | D12: =VLOOKUP(B12,spotkania!$D$8:$F$14,3,0) -> 13 | E12: =VLOOKUP(B12,spotkania!$C$18:$E$24,3,0) -> 0 | F12: P | G12: =VLOOKUP(B12,spotkania!$C$38:$E$44,3,0) -> 18 | H12: =VLOOKUP(B12,spotkania!$D$48:$F$54,3,0) -> 1 | I12: P | J12: =VLOOKUP(B12,spotkania!$C$68:$E$74,3,0) -> 16 | K12: =VLOOKUP(B12,spotkania!$C$78:$E$84,3,0) -> 23 | L12: P | M12: =VLOOKUP(B12,spotkania!$C$98:$E$104,3,0) -> 0 | N12: P | O12: =VLOOKUP(B12,spotkania!$C$118:$E$124,3,0) -> 5 | P12: =VLOOKUP(B12,spotkania!$C$128:$E$134,3,0) -> 5 | Q12: =VLOOKUP(B12,spotkania!$D$138:$F$144,3,0) -> 5 | R12: P
A13: B1 | B13: OZDEMIR MIRAN | C13: =SUM(D13:R13) -> 75 | D13: =VLOOKUP(B13,spotkania!$D$8:$F$14,3,0) -> 13 | E13: P | F13: =VLOOKUP(B13,spotkania!$C$28:$E$34,3,0) -> 1 | G13: P | H13: =VLOOKUP(B13,spotkania!$D$48:$F$54,3,0) -> 1 | I13: =VLOOKUP(B13,spotkania!$C$58:$E$64,3,0) -> 2 | J13: P | K13: =VLOOKUP(B13,spotkania!$C$78:$E$84,3,0) -> 23 | L13: =VLOOKUP(B13,spotkania!$D$88:$F$94,3,0) -> 15 | M13: P | N13: =VLOOKUP(B13,spotkania!$C$108:$E$114,3,0) -> 5 | O13: =VLOOKUP(B13,spotkania!$D$118:$F$124,3,0) -> 5 | P13: P | Q13: =VLOOKUP(B13,spotkania!$C$138:$E$144,3,0) -> 5 | R13: =VLOOKUP(B13,spotkania!$C$148:$E$154,3,0) -> 5
A14: A1 | B14: AUGUSTYNIAK KUBA | C14: =SUM(D14:R14) -> 63 | D14: =VLOOKUP(B14,spotkania!$C$8:$E$14,3,0) -> 2 | E14: =VLOOKUP(B14,spotkania!C18:E24,3,0) -> 0 | F14: P | G14: =VLOOKUP(B14,spotkania!$C$38:$E$44,3,0) -> 18 | H14: P | I14: =VLOOKUP(B14,spotkania!$C$58:$E$64,3,0) -> 2 | J14: P | K14: =VLOOKUP(B14,spotkania!$C$78:$E$84,3,0) -> 23 | L14: =VLOOKUP(B14,spotkania!$C$88:$E$94,3,0) -> 3 | M14: =VLOOKUP(B14,spotkania!$C$98:$E$104,3,0) -> 0 | N14: P | O14: =VLOOKUP(B14,spotkania!$C$118:$E$124,3,0) -> 5 | P14: P | Q14: =VLOOKUP(B14,spotkania!$C$138:$E$144,3,0) -> 5 | R14: =VLOOKUP(B14,spotkania!$C$148:$E$154,3,0) -> 5
A15: A6 | B15: PACHULSKI JULIUSZ | C15: =SUM(D15:R15) -> 60 | D15: =VLOOKUP(B15,spotkania!$C$8:$E$14,3,0) -> 2 | E15: P | F15: =VLOOKUP(B15,spotkania!$C$28:$E$34,3,0) -> 1 | G15: =VLOOKUP(B15,spotkania!$D$38:$F$44,3,0) -> 0 | H15: P | I15: =VLOOKUP(B15,spotkania!$C$58:$E$64,3,0) -> 2 | J15: =VLOOKUP(B15,spotkania!$C$68:$E$74,3,0) -> 16 | K15: P | L15: =VLOOKUP(B15,spotkania!$C$88:$E$94,3,0) -> 3 | M15: =VLOOKUP(B15,spotkania!$D$98:$F$104,3,0) -> 21 | N15: P | O15: =VLOOKUP(B15,spotkania!$C$118:$E$124,3,0) -> 5 | P15: P | Q15: =VLOOKUP(B15,spotkania!$D$138:$F$144,3,0) -> 5 | R15: =VLOOKUP(B15,spotkania!$C$148:$E$154,3,0) -> 5
A16: C7 | B16: zawodnik 21 | C16: =SUM(D16:R16) -> 59 | D16: P | E16: =VLOOKUP(B16,spotkania!$D$18:$F$24,3,0) -> 18 | F16: =VLOOKUP(B16,spotkania!$C$28:$E$34,3,0) -> 1 | G16: =VLOOKUP(B16,spotkania!$C$38:$E$44,3,0) -> 18 | H16: P | I16: =VLOOKUP(B16,spotkania!$C$58:$E$64,3,0) -> 2 | J16: =VLOOKUP(B16,spotkania!$D$68:$F$74,3,0) -> 2 | K16: P | L16: =VLOOKUP(B16,spotkania!$C$88:$E$94,3,0) -> 3 | M16: =VLOOKUP(B16,spotkania!$C$98:$E$104,3,0) -> 0 | N16: P | O16: =VLOOKUP(B16,spotkania!$C$118:$E$124,3,0) -> 5 | P16: =VLOOKUP(B16,spotkania!$C$128:$E$134,3,0) -> 5 | Q16: P | R16: =VLOOKUP(B16,spotkania!$C$148:$E$154,3,0) -> 5
A17: C1 | B17: KHOMENKO SVIATOSLAV | C17: =SUM(D17:R17) -> 59 | D17: P | E17: =VLOOKUP(B17,spotkania!$D$18:$F$24,3,0) -> 18 | F17: =VLOOKUP(B17,spotkania!$C$28:$E$34,3,0) -> 1 | G17: =VLOOKUP(B17,spotkania!$D$38:$F$44,3,0) -> 0 | H17: =VLOOKUP(B17,spotkania!$D$48:$F$54,3,0) -> 1 | I17: P | J17: =VLOOKUP(B17,spotkania!$C$68:$E$74,3,0) -> 16 | K17: P | L17: =VLOOKUP(B17,spotkania!$C$88:$E$94,3,0) -> 3 | M17: P | N17: =VLOOKUP(B17,spotkania!$C$108:$E$114,3,0) -> 5 | O17: =VLOOKUP(B17,spotkania!$D$118:$F$124,3,0) -> 5 | P17: P | Q17: =VLOOKUP(B17,spotkania!$D$138:$F$144,3,0) -> 5 | R17: =VLOOKUP(B17,spotkania!$C$148:$E$154,3,0) -> 5
A18: C4 | B18: DRÓŻDŹ NIKODEM | C18: =SUM(D18:R18) -> 57 | D18: P | E18: =VLOOKUP(B18,spotkania!$D$18:$F$24,3,0) -> 18 | F18: =VLOOKUP(B18,spotkania!$C$28:$E$34,3,0) -> 1 | G18: =VLOOKUP(B18,spotkania!$D$38:$F$44,3,0) -> 0 | H18: P | I18: =VLOOKUP(B18,spotkania!$D$58:$F$64,3,0) -> 18 | J18: =VLOOKUP(B18,spotkania!$D$68:$F$74,3,0) -> 2 | K18: P | L18: =VLOOKUP(B18,spotkania!$C$88:$E$94,3,0) -> 3 | M18: =VLOOKUP(B18,spotkania!$C$98:$E$104,3,0) -> 0 | N18: P | O18: =VLOOKUP(B18,spotkania!$D$118:$F$124,3,0) -> 5 | P18: =VLOOKUP(B18,spotkania!$D$128:$F$134,3,0) -> 5 | Q18: P | R18: =VLOOKUP(B18,spotkania!$D$148:$F$154,3,0) -> 5
A19: A5 | B19: CHOROSZ JAN | C19: =SUM(D19:R19) -> 55 | D19: =VLOOKUP(B19,spotkania!$C$8:$E$14,3,0) -> 2 | E19: =VLOOKUP(B19,spotkania!$C$18:$E$24,3,0) -> 0 | F19: P | G19: =VLOOKUP(B19,spotkania!$C$38:$E$44,3,0) -> 18 | H19: =VLOOKUP(B19,spotkania!$C$48:$E$54,3,0) -> 14 | I19: P | J19: =VLOOKUP(B19,spotkania!$D$68:$F$74,3,0) -> 2 | K19: =VLOOKUP(B19,spotkania!$D$78:$F$84,3,0) -> 4 | L19: P | M19: =VLOOKUP(B19,spotkania!$C$98:$E$104,3,0) -> 0 | N19: =VLOOKUP(B19,spotkania!$D$108:$F$114,3,0) -> 5 | O19: P | P19: =VLOOKUP(B19,spotkania!$C$128:$E$134,3,0) -> 5 | Q19: =VLOOKUP(B19,spotkania!$C$138:$E$144,3,0) -> 5 | R19: P
A20: B3 | B20: OLSZYŃSKI ADRIAN | C20: =SUM(D20:R20) -> 55 | D20: =VLOOKUP(B20,spotkania!$D$8:$F$14,3,0) -> 13 | E20: P | F20: =VLOOKUP(B20,spotkania!$C$28:$E$34,3,0) -> 1 | G20: =VLOOKUP(B20,spotkania!$D$38:$F$44,3,0) -> 0 | H20: P | I20: =VLOOKUP(B20,spotkania!$C$58:$E$64,3,0) -> 2 | J20: P | K20: =VLOOKUP(B20,spotkania!$D$78:$F$84,3,0) -> 4 | L20: =VLOOKUP(B20,spotkania!$D$88:$F$94,3,0) -> 15 | M20: P | N20: =VLOOKUP(B20,spotkania!$D$108:$F$114,3,0) -> 5 | O20: =VLOOKUP(B20,spotkania!$D$118:$F$124,3,0) -> 5 | P20: P | Q20: =VLOOKUP(B20,spotkania!$C$138:$E$144,3,0) -> 5 | R20: =VLOOKUP(B20,spotkania!$D$148:$F$154,3,0) -> 5
A21: B4 | B21: GLASNAPP NATAN | C21: =SUM(D21:R21) -> 54 | D21: =VLOOKUP(B21,spotkania!$D$8:$F$14,3,0) -> 13 | E21: =VLOOKUP(B21,spotkania!$C$18:$E$24,3,0) -> 0 | F21: P | G21: =VLOOKUP(B21,spotkania!$D$38:$F$44,3,0) -> 0 | H21: P | I21: =VLOOKUP(B21,spotkania!$C$58:$E$64,3,0) -> 2 | J21: P | K21: =VLOOKUP(B21,spotkania!$D$78:$F$84,3,0) -> 4 | L21: =VLOOKUP(B21,spotkania!$D$88:$F$94,3,0) -> 15 | M21: P | N21: =VLOOKUP(B21,spotkania!$D$108:$F$114,3,0) -> 5 | O21: =VLOOKUP(B21,spotkania!$D$118:$F$124,3,0) -> 5 | P21: =VLOOKUP(B21,spotkania!$C$128:$E$134,3,0) -> 5 | Q21: P | R21: =VLOOKUP(B21,spotkania!$C$148:$E$154,3,0) -> 5
A22: A3 | B22: BALWIERCZYK OLIWIER | C22: =SUM(D22:R22) -> 35 | D22: =VLOOKUP(B22,spotkania!$C$8:$E$14,3,0) -> 2 | E22: =VLOOKUP(B22,spotkania!$C$18:$E$24,3,0) -> 0 | F22: P | G22: =VLOOKUP(B22,spotkania!$D$38:$F$44,3,0) -> 0 | H22: =VLOOKUP(B22,spotkania!$D$48:$F$54,3,0) -> 1 | I22: P | J22: =VLOOKUP(B22,spotkania!$D$68:$F$74,3,0) -> 2 | K22: P | L22: =VLOOKUP(B22,spotkania!$D$88:$F$94,3,0) -> 15 | M22: =VLOOKUP(B22,spotkania!$C$98:$E$104,3,0) -> 0 | N22: =VLOOKUP(B22,spotkania!$C$108:$E$114,3,0) -> 5 | O22: P | P22: =VLOOKUP(B22,spotkania!$D$128:$F$134,3,0) -> 5 | Q22: =VLOOKUP(B22,spotkania!$D$138:$F$144,3,0) -> 5 | R22: P
